BEGIN:VCALENDAR
VERSION:2.0
PRODID:-//WDIGIS - ECPv6.15.20//NONSGML v1.0//EN
CALSCALE:GREGORIAN
METHOD:PUBLISH
X-WR-CALNAME:WDIGIS
X-ORIGINAL-URL:https://wdigis.com
X-WR-CALDESC:Events for WDIGIS
REFRESH-INTERVAL;VALUE=DURATION:PT1H
X-Robots-Tag:noindex
X-PUBLISHED-TTL:PT1H
BEGIN:VTIMEZONE
TZID:America/Denver
BEGIN:DAYLIGHT
TZOFFSETFROM:-0700
TZOFFSETTO:-0600
TZNAME:MDT
DTSTART:20250309T090000
END:DAYLIGHT
BEGIN:STANDARD
TZOFFSETFROM:-0600
TZOFFSETTO:-0700
TZNAME:MST
DTSTART:20251102T080000
END:STANDARD
BEGIN:DAYLIGHT
TZOFFSETFROM:-0700
TZOFFSETTO:-0600
TZNAME:MDT
DTSTART:20260308T090000
END:DAYLIGHT
BEGIN:STANDARD
TZOFFSETFROM:-0600
TZOFFSETTO:-0700
TZNAME:MST
DTSTART:20261101T080000
END:STANDARD
BEGIN:DAYLIGHT
TZOFFSETFROM:-0700
TZOFFSETTO:-0600
TZNAME:MDT
DTSTART:20270314T090000
END:DAYLIGHT
BEGIN:STANDARD
TZOFFSETFROM:-0600
TZOFFSETTO:-0700
TZNAME:MST
DTSTART:20271107T080000
END:STANDARD
END:VTIMEZONE
BEGIN:VEVENT
DTSTART;TZID=America/Denver:20260426T080000
DTEND;TZID=America/Denver:20260430T170000
DTSTAMP:20260422T103452
CREATED:20260211T173616Z
LAST-MODIFIED:20260211T173616Z
UID:10003702-1777190400-1777568400@wdigis.com
SUMMARY:2026 AGA Operations Conference & Spring Committee Meetings
DESCRIPTION:The Operations Conference is the natural gas industry’s premier gathering of operators of natural gas delivery systems and service and equipment providers. Leadership in natural gas operations attend this event. Developed by gas operators for gas operators – this event is the industry’s largest annual forum with more than 800 operations management in attendance. The event offers technical sessions with topics\, to include but not limited to\, gas measurement\, pipeline integrity\, operations advocacy\, workforce safety\, environment\, storage\, engineering\, construction and maintenance\, gas control\, corrosion control and damage prevention. Attendees share technical knowledge\, leadership strategies\, and learning events promoting the safe\, reliable delivery of natural gas and the safety of the workforce.
URL:https://wdigis.com/event-page/2026-aga-operations-conference-spring-committee-meetings/
LOCATION:Tampa Florida\, FL\, 33602\, United States
CATEGORIES:Conference
END:VEVENT
BEGIN:VEVENT
DTSTART;TZID=America/Denver:20260504T080000
DTEND;TZID=America/Denver:20260508T170000
DTSTAMP:20260422T103452
CREATED:20260306T224653Z
LAST-MODIFIED:20260323T192308Z
UID:10003711-1777881600-1778259600@wdigis.com
SUMMARY:Quality Conference - Enterprise Data World
DESCRIPTION:The 2026 agenda is live\, and it’s built for where data leadership is heading right now.\nAI governance\, data strategy\, quality\, and the frameworks your organization actually needs. \nhttps://dgiq-edw2026.dataversity.net/index.cfm
URL:https://wdigis.com/event-page/quality-conference-enterprise-data-world/
LOCATION:San Diego\, California\, San Diego\, CA\, United States
CATEGORIES:Conference
END:VEVENT
BEGIN:VEVENT
DTSTART;TZID=America/Denver:20260512T080000
DTEND;TZID=America/Denver:20260514T170000
DTSTAMP:20260422T103452
CREATED:20260306T223855Z
LAST-MODIFIED:20260306T224228Z
UID:10003710-1778572800-1778778000@wdigis.com
SUMMARY:DTECH Data Centers & AI
DESCRIPTION:﻿The Event Defining How AI + Load Growth Shape Tomorrow’s Grid \nRapid load growth from hyperscale data centers\, the expansion of AI computing\, and the rise of onsite generation needs are driving the largest shift in electricity demand in decades. Utilities\, data center operators\, EPC firms\, and technology providers are all being pushed into the same urgent conversation: how to deliver reliable\, scalable power fast enough to support the digital economy. \nDTECH® Data Centers & AI unites all sides of this challenge to coordinate strategies\, share solutions\, and accelerate capacity deployment. \nhttps://dtech-events.com
URL:https://wdigis.com/event-page/dtech-data-centers-ai/
LOCATION:DoubleTree Resort by Hilton Hotel Paradise Valley\, 5401 N Scottsdale Rd\, Scottsdale\, AZ\, 85250\, United States
CATEGORIES:Conference
END:VEVENT
BEGIN:VEVENT
DTSTART;TZID=America/Denver:20260517T080000
DTEND;TZID=America/Denver:20260520T170000
DTSTAMP:20260422T103452
CREATED:20260306T223023Z
LAST-MODIFIED:20260306T223257Z
UID:10003709-1779004800-1779296400@wdigis.com
SUMMARY:ASQ World Conference on Quality & Improvement
DESCRIPTION:﻿The World Conference on Quality and Improvement (WCQI) stands as a premier global forum dedicated to driving excellence in quality management\, continuous improvement\, and organizational success. Each year\, it brings together industry leaders\, practitioners\, and visionaries who are united by a shared commitment to innovation\, collaboration\, and impactful results. By fostering a dynamic exchange of ideas\, tools\, and best practices\, WCQI empowers participants to tackle complex challenges\, seize new opportunities\, and inspire positive transformations within their organizations and communities. This event is not just a conference—it’s a catalyst for meaningful progress and a testament to the power of collective expertise. \nhttps://asq.org/conferences/wcqi
URL:https://wdigis.com/event-page/asq-world-conference-on-quality-improvement/
LOCATION:Marriott Orlando World Center\, 8701 World Center Drive\, Orlando\, FL\, United States
CATEGORIES:Conference
END:VEVENT
BEGIN:VEVENT
DTSTART;TZID=America/Denver:20260629T080000
DTEND;TZID=America/Denver:20260702T170000
DTSTAMP:20260422T103452
CREATED:20260211T173951Z
LAST-MODIFIED:20260211T173951Z
UID:10003703-1782720000-1783011600@wdigis.com
SUMMARY:European Power Platform Conference 2026
DESCRIPTION:The 5th European Power Platform Conference (EPPC) will take place in Copenhagen\, Denmark from the 29th of June – 2nd of July 2026. The European Power Platform Conference brings together the Microsoft Power Platform Community for 4 invaluable days of in-person learning\, connections and inspiration.
URL:https://wdigis.com/event-page/european-power-platform-conference-2026/
LOCATION:Bella Center\, Center Blvd. 5\, 2300 København\, Copenhagen\, Denmark
CATEGORIES:Conference
END:VEVENT
BEGIN:VEVENT
DTSTART;TZID=America/Denver:20260713T080000
DTEND;TZID=America/Denver:20260717T170000
DTSTAMP:20260422T103452
CREATED:20260211T174341Z
LAST-MODIFIED:20260306T230305Z
UID:10003704-1783929600-1784307600@wdigis.com
SUMMARY:Esri UC
DESCRIPTION:An Esri UC (User Conference) Invitation-only Sponsored Event is a specialized\, private gathering held during the annual Esri User Conference in San Diego. These events are typically hosted by Esri partners\, vendors\, or specific industry groups rather than by Esri corporate itself.
URL:https://wdigis.com/event-page/esri-uc-invitation-only-sponsored-event/
LOCATION:San Diego Convention Center\, 111 Harbor Dr\, San Diego\, CA\, United States
CATEGORIES:Conference
END:VEVENT
BEGIN:VEVENT
DTSTART;TZID=America/Denver:20260922T080000
DTEND;TZID=America/Denver:20260924T170000
DTSTAMP:20260422T103452
CREATED:20260306T225226Z
LAST-MODIFIED:20260311T205757Z
UID:10003712-1790064000-1790269200@wdigis.com
SUMMARY:Trees & Utilities Conference
DESCRIPTION:Join industry leaders September 22–24 in Portland\, Oregon\, for the premier convening in utility vegetation management — where fresh ideas\, practical solutions\, and powerful connections come together to advance safe\, reliable\, and resilient utility systems. Join our email list to stay in the loop as more details become available. \nhttps://www.treesandutilities.org/
URL:https://wdigis.com/event-page/trees-utilities-conference-chat-with-eric-w/
LOCATION:Oregon Convention Center\, 777 NE Martin Luther King Jr Blvd\, Portland\, OR\, United States
END:VEVENT
BEGIN:VEVENT
DTSTART;TZID=America/Denver:20261006T080000
DTEND;TZID=America/Denver:20261007T170000
DTSTAMP:20260422T103452
CREATED:20260211T175336Z
LAST-MODIFIED:20260211T175426Z
UID:10003707-1791273600-1791392400@wdigis.com
SUMMARY:IRTH Solutions Conference
DESCRIPTION:2026 Irth User Summit will be held at the JW Marriott New Orleans\, 611 Common Street\, New Orleans\, LA 70130.
URL:https://wdigis.com/event-page/irth-solutions-conference/
LOCATION:New Orleans\, 611 COMMON STREET\, New Orleans\, LA\, United States
CATEGORIES:Conference
END:VEVENT
BEGIN:VEVENT
DTSTART;TZID=America/Denver:20261020T080000
DTEND;TZID=America/Denver:20261022T170000
DTSTAMP:20260422T103452
CREATED:20260306T225816Z
LAST-MODIFIED:20260306T225913Z
UID:10003713-1792483200-1792688400@wdigis.com
SUMMARY:Utility Analytics
DESCRIPTION:Utility Analytics Week (UA Week) is a premier 3-day conference for energy and utility data professionals\, focused on sharing practical\, real-world analytics use cases\,\nAI applications\, and industry best practices. Hosted by the Utility Analytics Institute (UAI)\, it connects professionals to address grid reliability\, safety\, and customer experience. \nUA Week
URL:https://wdigis.com/event-page/utility-analytics-2/
LOCATION:Glendale Arizona\, Glendale\, AZ\, United States
END:VEVENT
BEGIN:VEVENT
DTSTART;TZID=America/Denver:20261027T080000
DTEND;TZID=America/Denver:20261029T170000
DTSTAMP:20260422T103452
CREATED:20260211T174558Z
LAST-MODIFIED:20260211T174558Z
UID:10003705-1793088000-1793293200@wdigis.com
SUMMARY:ESRI IMGIS 2026
DESCRIPTION:Esri Infrastructure Management & GIS Conference
URL:https://wdigis.com/event-page/esri-imgis-2026/
LOCATION:Palm Springs Convention Center\, 277 N Avenida Caballeros\, Palm Springs\, CA\, 92262\, United States
CATEGORIES:Conference
END:VEVENT
BEGIN:VEVENT
DTSTART;TZID=America/Denver:20261027T080000
DTEND;TZID=America/Denver:20261029T170000
DTSTAMP:20260422T103452
CREATED:20260211T175059Z
LAST-MODIFIED:20260311T210408Z
UID:10003706-1793088000-1793293200@wdigis.com
SUMMARY:Americas Power Platform Conference 2026
DESCRIPTION:The Power Platform Community Conference (PPCC) is the premier and largest global gathering for low-code innovators\, IT leaders\, developers\, and partners driving the future of business transformation. \nHeld in Las Vegas from October 27-29\, 2026\, with pre- and post-conference workshops\, PPCC is a celebration of community\, creativity\, and cutting-edge technology. \nThis year will highlight the rapid evolution of AI Agents and low-code solutions. Attendees will gain hands-on experience\, hear from Microsoft’s top leaders\, and explore the latest advancements in Copilot Studio\, Power Apps\, Power Automate\, Power BI\, and Power Pages.
URL:https://wdigis.com/event-page/americas-power-platform-conference-2026-mpp/
LOCATION:Las Vegas\, Las Vegas\, NV\, United States
CATEGORIES:Conference
END:VEVENT
END:VCALENDAR